BEGIN:VCALENDAR
VERSION:2.0
PRODID:SchoolNow
CALSCALE:GREGORIAN
BEGIN:VEVENT
UID:006a4126-834f-11f0-8ea5-0a58a9feac02
DTSTAMP:20251030T165047Z
SUMMARY:(Cancelled) Magnolia Creek CDD - Regular Meeting November 2025
LOCATION:Walton Chamber of Commerce located at 63 South Centre Trail\, Sant
 a Rosa Beach\, FL 32459
URL;VALUE=URI:https://www.magnoliacreekcdd.org/calendar/8549906/magnolia-cr
 eek-cdd-regular-meeting-november-2025
DTSTART:20251106T150000Z
DTEND:20251106T180000Z
END:VEVENT
END:VCALENDAR
