BEGIN:VCALENDAR
VERSION:2.0
PRODID:SchoolNow
CALSCALE:GREGORIAN
BEGIN:VEVENT
UID:2a3e1df0-381e-11f0-9950-0a58a9feac02
DTSTAMP:20250523T213758Z
SUMMARY:Magnolia Creek CDD – Regular Meeting June 2025
LOCATION:Walton Area Chamber of Commerce\, located at 63 South Centre Trail
 \, Santa Rosa Beach\, FL 32459
URL;VALUE=URI:https://www.magnoliacreekcdd.org/calendar/8188088/magnolia-cr
 eek-cdd-regular-meeting-june-2025
DTSTART:20250606T140000Z
DTEND:20250606T170000Z
ATTACH;FILENAME=2025-06-06 - Magnolia Creek CDD -BOS Final Agenda (Without 
 Invoices).pdf;FMTTYPE=application/pdf:https://campussuite-storage.s3.amazo
 naws.com/prod/1558900/67444b78-ea9c-11e9-a327-0a20d2c7fac4/2959550/26f2f24
 2-381e-11f0-a7df-0a58a9feac02/file/2025-06-06 - Magnolia Creek CDD -BOS Fi
 nal Agenda (Without Invoices).pdf
END:VEVENT
END:VCALENDAR
