BEGIN:VCALENDAR
VERSION:2.0
PRODID:SchoolNow
CALSCALE:GREGORIAN
BEGIN:VEVENT
UID:594aa786-7112-11ef-92e8-0a58a9feac02
DTSTAMP:20250806T142828Z
SUMMARY:Magnolia Creek CDD – Regular Meeting August 2025
LOCATION:Walton Area Chamber of Commerce\, located at 63 South Centre Trail
 \, Santa Rosa Beach\, FL 32459
URL;VALUE=URI:https://www.magnoliacreekcdd.org/calendar/6586369/magnolia-cr
 eek-cdd-regular-meeting-august-2025
DTSTART:20250807T140000Z
DTEND:20250807T170000Z
ATTACH;FILENAME=2025-08-07 - Magnolia Creek CDD - BOS Public Hearing Meetin
 g- Revised FINAL Agenda.pdf;FMTTYPE=application/pdf:https://campussuite-st
 orage.s3.amazonaws.com/prod/1558900/67444b78-ea9c-11e9-a327-0a20d2c7fac4/2
 989285/9a4ba8d6-72d1-11f0-a32f-0affeaa60e11/file/2025-08-07 - Magnolia Cre
 ek CDD - BOS Public Hearing Meeting- Revised FINAL Agenda.pdf
END:VEVENT
END:VCALENDAR
