BEGIN:VCALENDAR
VERSION:2.0
PRODID:SchoolNow
CALSCALE:GREGORIAN
BEGIN:VEVENT
UID:4986bbe6-7112-11ef-9d91-0afff68976e5
DTSTAMP:20250515T162902Z
SUMMARY:Magnolia Creek CDD – Regular Meeting May 2025
LOCATION:Walton Area Chamber of Commerce\, located at 63 South Centre Trail
 \, Santa Rosa Beach\, FL 32459
URL;VALUE=URI:https://www.magnoliacreekcdd.org/calendar/6586368/magnolia-cr
 eek-cdd-regular-meeting-may-2025
DTSTART:20250522T140000Z
DTEND:20250522T170000Z
ATTACH;FILENAME=2025-05-22 - Magnolia Creek CDD - BOS Meeting- Final Agenda
 .pdf;FMTTYPE=application/pdf:https://campussuite-storage.s3.amazonaws.com/
 prod/1558900/67444b78-ea9c-11e9-a327-0a20d2c7fac4/2954481/b1925486-31a9-11
 f0-8f38-0a58a9feac02/file/2025-05-22 - Magnolia Creek CDD - BOS Meeting- F
 inal Agenda.pdf
END:VEVENT
END:VCALENDAR
